BEGIN:VCALENDAR
VERSION:2.0
PRODID:-//Tukios.com/
BEGIN:VEVENT
UID:1070b907-62a2-4815-a82c-7cae11e0b3ec@www.catespencertrent.com
DTSTAMP:20260423T185145Z
DTSTART:20260425T150000Z
DTEND:20260425T160000Z
SUMMARY:Memorial Service
DESCRIPTION:
URL:https://www.catespencertrent.com/obituaries/sierra-zapata
LOCATION: 403 Locust St  Sweetwater TX 79556
GEO:32.4726101;-100.4090407
END:VEVENT
END:VCALENDAR